BEGIN:VCALENDAR
VERSION:2.0
PRODID:-//Gainford &amp; Langton Parish Council - ECPv6.15.15//NONSGML v1.0//EN
CALSCALE:GREGORIAN
METHOD:PUBLISH
X-WR-CALNAME:Gainford &amp; Langton Parish Council
X-ORIGINAL-URL:https://gainfordandlangtonparishcouncil.org.uk
X-WR-CALDESC:Events for Gainford &amp; Langton Parish Council
REFRESH-INTERVAL;VALUE=DURATION:PT1H
X-Robots-Tag:noindex
X-PUBLISHED-TTL:PT1H
BEGIN:VTIMEZONE
TZID:UTC
BEGIN:STANDARD
TZOFFSETFROM:+0000
TZOFFSETTO:+0000
TZNAME:UTC
DTSTART:20220101T000000
END:STANDARD
END:VTIMEZONE
BEGIN:VEVENT
DTSTART;VALUE=DATE:20230624
DTEND;VALUE=DATE:20230625
DTSTAMP:20260420T141108
CREATED:20230326T195954Z
LAST-MODIFIED:20230510T134351Z
UID:3627-1687564800-1687651199@gainfordandlangtonparishcouncil.org.uk
SUMMARY:Gainfest
DESCRIPTION:Gainford Fun Day is set to return for 2023 on Saturday 24th June! However\, this year we have a new group of organisers\, with some new ideas and we are having a refresh of the existing format. Along with this\, we have decided to rebrand the event as ‘Gainfest’!! \n 
URL:https://gainfordandlangtonparishcouncil.org.uk/test/gainfest/
CATEGORIES:Live Music,Village Events
END:VEVENT
BEGIN:VEVENT
DTSTART;TZID=UTC:20230513T100000
DTEND;TZID=UTC:20230513T150000
DTSTAMP:20260420T141108
CREATED:20230326T201303Z
LAST-MODIFIED:20230510T134432Z
UID:3646-1683972000-1683990000@gainfordandlangtonparishcouncil.org.uk
SUMMARY:Table Top Sale
DESCRIPTION:Table Top Sale in Gainford Village Hall\, Saturday 13th May. Tables available to book £10. Call 07821 435272.
URL:https://gainfordandlangtonparishcouncil.org.uk/test/table-top-sale/
CATEGORIES:Village Events
END:VEVENT
BEGIN:VEVENT
DTSTART;VALUE=DATE:20230508
DTEND;VALUE=DATE:20230509
DTSTAMP:20260420T141108
CREATED:20230326T200122Z
LAST-MODIFIED:20230326T200122Z
UID:3631-1683504000-1683590399@gainfordandlangtonparishcouncil.org.uk
SUMMARY:Volunteer Activity Day
DESCRIPTION:
URL:https://gainfordandlangtonparishcouncil.org.uk/test/volunteer-activity-day/
CATEGORIES:Village Events
END:VEVENT
BEGIN:VEVENT
DTSTART;VALUE=DATE:20230507
DTEND;VALUE=DATE:20230508
DTSTAMP:20260420T141108
CREATED:20230326T200059Z
LAST-MODIFIED:20230326T200059Z
UID:3629-1683417600-1683503999@gainfordandlangtonparishcouncil.org.uk
SUMMARY:King's Coronation Picnic
DESCRIPTION:
URL:https://gainfordandlangtonparishcouncil.org.uk/test/kings-coronation-picnic/
CATEGORIES:Village Events
END:VEVENT
END:VCALENDAR